BEGIN:VCALENDAR
VERSION:2.0
PRODID:-//wp-events-plugin.com//7.2.3.1//EN
BEGIN:VEVENT
UID:12@vfk-wuppertal.de
DTSTART;VALUE=DATE:20260328
DTEND;VALUE=DATE:20260329
DTSTAMP:20251116T174438Z
URL:https://vfk-wuppertal.de/events/grosser-preis-von-beyenburg-2026-drach
 enboot/
SUMMARY:Großer Preis von Beyenburg 2026 (Drachenboot)
DESCRIPTION:Weitere Informationen sind im Vorfeld der Veranstaltung hier zu
  finden.
END:VEVENT
END:VCALENDAR