BEGIN:VCALENDAR
VERSION:2.0
PRODID:-//wp-events-plugin.com//7.2.3.1//EN
BEGIN:VEVENT
UID:14@vfk-wuppertal.de
DTSTART;VALUE=DATE:20260711
DTEND;VALUE=DATE:20260712
DTSTAMP:20251116T174318Z
URL:https://vfk-wuppertal.de/events/bergisches-drachenbootfest-2026/
SUMMARY:Bergisches Drachenbootfest 2026
DESCRIPTION:Weitere Informationen sind im Vorfeld der Veranstaltung hier zu
  finden.
END:VEVENT
END:VCALENDAR